BEGIN:VCALENDAR
VERSION:2.0
PRODID:spatie/icalendar-generator
DESCRIPTION:Évènements de MAIRIE DE DOURGNE
X-WR-CALDESC:Évènements de MAIRIE DE DOURGNE
REFRESH-INTERVAL;VALUE=DURATION:PT1440M
X-PUBLISHED-TTL:PT1440M
BEGIN:VTIMEZONE
TZID:Europe/Paris
BEGIN:STANDARD
DTSTART:20251026T030000Z
TZOFFSETFROM:+0200
TZOFFSETTO:+0100
END:STANDARD
BEGIN:DAYLIGHT
DTSTART:20260329T020000Z
TZOFFSETFROM:+0100
TZOFFSETTO:+0200
END:DAYLIGHT
BEGIN:STANDARD
DTSTART:20261025T030000Z
TZOFFSETFROM:+0200
TZOFFSETTO:+0100
END:STANDARD
END:VTIMEZONE
BEGIN:VTIMEZONE
TZID:UTC
BEGIN:STANDARD
DTSTART:20250729T163005Z
TZOFFSETFROM:+0000
TZOFFSETTO:+0000
END:STANDARD
END:VTIMEZONE
BEGIN:VEVENT
UID:6361-507
DTSTAMP:20260425T163005Z
SUMMARY:ECOLE GEORGES MAZARS- 14h 16h00
LOCATION:
ORGANIZER;CN=Christel DAUZAT:MAILTO:communication@dourgne.fr
RRULE:FREQ=WEEKLY;UNTIL=20260704T000000Z
DTSTART;TZID=Europe/Paris:20260529T140000
DTEND;TZID=Europe/Paris:20260529T160000
X-ALT-DESC;FMTTYPE=TEXT/HTML:14h-16h00
CATEGORIES:Salle omnisport
URL;VALUE=URI:https://www.dourgne.fr/reservation-de-salles/?mc_id=6361&amp;#038
 ;vcal=6361
METHOD:PUBLISH
END:VEVENT
END:VCALENDAR