BEGIN:VCALENDAR
VERSION:2.0
PRODID:spatie/icalendar-generator
DESCRIPTION:Évènements de MAIRIE DE DOURGNE
X-WR-CALDESC:Évènements de MAIRIE DE DOURGNE
REFRESH-INTERVAL;VALUE=DURATION:PT1440M
X-PUBLISHED-TTL:PT1440M
BEGIN:VTIMEZONE
TZID:Europe/Paris
BEGIN:STANDARD
DTSTART:20251026T030000Z
TZOFFSETFROM:+0200
TZOFFSETTO:+0100
END:STANDARD
BEGIN:DAYLIGHT
DTSTART:20260329T020000Z
TZOFFSETFROM:+0100
TZOFFSETTO:+0200
END:DAYLIGHT
BEGIN:STANDARD
DTSTART:20261025T030000Z
TZOFFSETFROM:+0200
TZOFFSETTO:+0100
END:STANDARD
END:VTIMEZONE
BEGIN:VTIMEZONE
TZID:UTC
BEGIN:STANDARD
DTSTART:20250730T022344Z
TZOFFSETFROM:+0000
TZOFFSETTO:+0000
END:STANDARD
END:VTIMEZONE
BEGIN:VEVENT
UID:6624-512
DTSTAMP:20260426T022344Z
SUMMARY:DO TENNIS 08h00-13h00
LOCATION:
ORGANIZER;CN=Christel DAUZAT:MAILTO:communication@dourgne.fr
RRULE:FREQ=WEEKLY;UNTIL=20260704T000000Z
DTSTART;TZID=Europe/Paris:20260523T080000
DTEND;TZID=Europe/Paris:20260523T130000
X-ALT-DESC;FMTTYPE=TEXT/HTML:sauf vacances scolaires
CATEGORIES:Salle omnisport
URL;VALUE=URI:https://www.dourgne.fr/reservation-de-salles/?mc_id=6624&amp;#038
 ;vcal=6624
METHOD:PUBLISH
END:VEVENT
END:VCALENDAR