BEGIN:VCALENDAR
VERSION:2.0
PRODID:spatie/icalendar-generator
DESCRIPTION:Évènements de MAIRIE DE DOURGNE
X-WR-CALDESC:Évènements de MAIRIE DE DOURGNE
REFRESH-INTERVAL;VALUE=DURATION:PT1440M
X-PUBLISHED-TTL:PT1440M
BEGIN:VTIMEZONE
TZID:Europe/Paris
BEGIN:STANDARD
DTSTART:20251026T030000Z
TZOFFSETFROM:+0200
TZOFFSETTO:+0100
END:STANDARD
BEGIN:DAYLIGHT
DTSTART:20260329T020000Z
TZOFFSETFROM:+0100
TZOFFSETTO:+0200
END:DAYLIGHT
END:VTIMEZONE
BEGIN:VTIMEZONE
TZID:UTC
BEGIN:STANDARD
DTSTART:20250725T095340Z
TZOFFSETFROM:+0000
TZOFFSETTO:+0000
END:STANDARD
END:VTIMEZONE
BEGIN:VEVENT
UID:6953-523
DTSTAMP:20260421T095340Z
SUMMARY:MAIRIE ENTRETIEN LOCAUX-08H30-10H00
LOCATION:
ORGANIZER;CN=Christel DAUZAT:MAILTO:communication@dourgne.fr
RRULE:FREQ=WEEKLY;UNTIL=20260831T000000Z
DTSTART;TZID=Europe/Paris:20260403T083000
DTEND;TZID=Europe/Paris:20260403T100000
X-ALT-DESC;FMTTYPE=TEXT/HTML:
CATEGORIES:Maison des associations
URL;VALUE=URI:https://www.dourgne.fr/reservation-de-salles/?mc_id=6953&amp;#038
 ;vcal=6953
METHOD:PUBLISH
END:VEVENT
END:VCALENDAR